BEGIN:VCALENDAR
VERSION:2.0
BEGIN:VEVENT
DTSTART;TZID=Europe/Stockholm:20240214T140000
DTEND;TZID=Europe/Stockholm:20240214T150000
DTSTAMP:20260421T114442
DESCRIPTION:Stillhet i kyrkan, gemenskap runt kaffebordet, andakt.
SEQUENCE:0
SUMMARY:Öppen kyrka kl 14-16
UID:3965@lawebb.se
END:VEVENT
END:VCALENDAR