BEGIN:VCALENDAR
VERSION:2.0
BEGIN:VEVENT
DTSTART;TZID=Europe/Stockholm:20240109T140000
DTEND;TZID=Europe/Stockholm:20240109T150000
DTSTAMP:20260421T131021
DESCRIPTION:Gemenskap, andakt, fika och samtal.
SEQUENCE:0
SUMMARY:Öppen kyrka 14.00-16.00
UID:3895@lawebb.se
END:VEVENT
END:VCALENDAR